BEGIN:VCALENDAR
VERSION:2.0
PRODID:-//The Bassment - ECPv4.9.13//NONSGML v1.0//EN
CALSCALE:GREGORIAN
METHOD:PUBLISH
X-WR-CALNAME:The Bassment
X-ORIGINAL-URL:https://thebassment.ca
X-WR-CALDESC:Events for The Bassment
BEGIN:VTIMEZONE
TZID:America/Regina
BEGIN:STANDARD
TZOFFSETFROM:-0600
TZOFFSETTO:-0600
TZNAME:CST
DTSTART:20260101T000000
END:STANDARD
END:VTIMEZONE
BEGIN:VEVENT
DTSTART;TZID=America/Regina:20260613T193000
DTEND;TZID=America/Regina:20260613T220000
DTSTAMP:20260419T215138
CREATED:20260320T061956Z
LAST-MODIFIED:20260320T063259Z
UID:11544-1781379000-1781388000@thebassment.ca
SUMMARY:The Aretha Tillotson Quartet
DESCRIPTION:\nAretha Tillotson is a JUNO-nominated bassist\, band leader\, composer\, and faculty member at MacEwan University\, where she teaches bass and theory. Her debut album\, Introducing Aretha Tillotson\, won a 2024 Western Canadian Music Award for Jazz Artist of the Year. This concert features her second album\, Kinda Out West\, which has been nominated for a 2026 JUNO for Jazz Album of the Year. The quartet will feature Kent Sangster (alto sax)\, Dean McNeill (trumpet)\, and Eric Zeller (drums). \nSponsored by David’s Distinctive Men’s Apparel \n\n \n\n\n\n\n\n\n\n  \n
URL:https://thebassment.ca/event/aretha-260613/
LOCATION:The Bassment\, 202 4th Avenue N\, Saskatoon\, SK\, S7K 0K1\, Canada
CATEGORIES:Jazz Travellers
ATTACH;FMTTYPE=image/jpeg:https://thebassment.ca/wp-content/uploads/2026/03/Aretha-June-13-2026.jpg
END:VEVENT
END:VCALENDAR