BEGIN:VCALENDAR
VERSION:2.0
PRODID:-//The Bassment - ECPv4.9.13//NONSGML v1.0//EN
CALSCALE:GREGORIAN
METHOD:PUBLISH
X-WR-CALNAME:The Bassment
X-ORIGINAL-URL:https://thebassment.ca
X-WR-CALDESC:Events for The Bassment
BEGIN:VTIMEZONE
TZID:America/Regina
BEGIN:STANDARD
TZOFFSETFROM:-0600
TZOFFSETTO:-0600
TZNAME:CST
DTSTART:20260101T000000
END:STANDARD
END:VTIMEZONE
BEGIN:VEVENT
DTSTART;TZID=America/Regina:20260419T140000
DTEND;TZID=America/Regina:20260419T163000
DTSTAMP:20260422T034648
CREATED:20260325T194353Z
LAST-MODIFIED:20260325T194915Z
UID:11658-1776607200-1776616200@thebassment.ca
SUMMARY:Between the Lines with Brad Johner and Donny Parenteau
DESCRIPTION:\nBrad Johner and Donny Parenteau are prominent figures in the Saskatchewan country music community. Brad Johner\, a four-time JUNO Award nominee\, has received two Canadian Country Music Association (CCMA) awards and eighty-one Saskatchewan Country Music Awards. He has shared his music internationally\, including a performance for Her Majesty Queen Elizabeth II. \nDonny Parenteau\, a three-time JUNO Award nominee\, has toured globally alongside Neal McCoy and has performed at the Grand Ole Opry and on The Tonight Show with Jay Leno. Upon returning to Saskatchewan in 2003\, Donny has received over one hundred nominations across eight major award shows. \nExperience an evening featuring Brad and Donny’s music as well as their inside stories behind each song. \n\nSponsored by Beehive Flooring \n \n\n\n\n  \n
URL:https://thebassment.ca/event/brad-donny-260419/
LOCATION:The Bassment\, 202 4th Avenue N\, Saskatoon\, SK\, S7K 0K1\, Canada
CATEGORIES:Country Roads
ATTACH;FMTTYPE=image/jpeg:https://thebassment.ca/wp-content/uploads/2026/01/brad-donny-march-27-2026.jpg
END:VEVENT
END:VCALENDAR