BEGIN:VCALENDAR
VERSION:2.0
PRODID:-//The Bassment - ECPv4.9.13//NONSGML v1.0//EN
CALSCALE:GREGORIAN
METHOD:PUBLISH
X-WR-CALNAME:The Bassment
X-ORIGINAL-URL:https://thebassment.ca
X-WR-CALDESC:Events for The Bassment
BEGIN:VTIMEZONE
TZID:America/Regina
BEGIN:STANDARD
TZOFFSETFROM:-0600
TZOFFSETTO:-0600
TZNAME:CST
DTSTART:20250101T000000
END:STANDARD
END:VTIMEZONE
BEGIN:VEVENT
DTSTART;TZID=America/Regina:20250612T193000
DTEND;TZID=America/Regina:20250612T220000
DTSTAMP:20260423T103106
CREATED:20250405T033431Z
LAST-MODIFIED:20250405T033823Z
UID:10778-1749756600-1749765600@thebassment.ca
SUMMARY:Dallas Alexander
DESCRIPTION:Hailing from a rough-and-tumble backwoods upbringing in Fishing Lake Métis Settlement in Northern Alberta\, Dallas Alexander weaves his Métis roots with stories amassed over a decade-plus career serving in a tier-one special operations unit in the Canadian military. Dallas serves up a unique sound and country music lovers are in for a gritty-outlaw vibe inspired by music legends Waylon Jennings and Johnny Cash. \nSponsored by David’s Distinctive Men’s Wear \n \n\n\n\n\n\n\n  \n
URL:https://thebassment.ca/event/dallas-alex-250612/
LOCATION:The Bassment\, 202 4th Avenue N\, Saskatoon\, SK\, S7K 0K1\, Canada
CATEGORIES:Country Roads
ATTACH;FMTTYPE=image/jpeg:https://thebassment.ca/wp-content/uploads/2025/04/Dallas-Jun-12-2025.jpg
END:VEVENT
END:VCALENDAR