BEGIN:VCALENDAR
VERSION:2.0
PRODID:-//The Bassment - ECPv4.9.13//NONSGML v1.0//EN
CALSCALE:GREGORIAN
METHOD:PUBLISH
X-WR-CALNAME:The Bassment
X-ORIGINAL-URL:https://thebassment.ca
X-WR-CALDESC:Events for The Bassment
BEGIN:VTIMEZONE
TZID:America/Regina
BEGIN:STANDARD
TZOFFSETFROM:-0600
TZOFFSETTO:-0600
TZNAME:CST
DTSTART:20260101T000000
END:STANDARD
END:VTIMEZONE
BEGIN:VEVENT
DTSTART;TZID=America/Regina:20260604T193000
DTEND;TZID=America/Regina:20260604T220000
DTSTAMP:20260419T215328
CREATED:20250329T202051Z
LAST-MODIFIED:20260308T043930Z
UID:10761-1780601400-1780610400@thebassment.ca
SUMMARY:Darrell Burko and the B# Orchestra
DESCRIPTION:Singer-songwriter Darrell Burko is joined by an all-star cast of musicians. Bassist Daryl Pierce takes up his usual spot alongside drummer Kyle Krysa\, guitarist Kim Archibald\, saxophonist Al Loewen\, and perennial show stealer Jody Giesbrecht on pedal steel. You can expect to hear Darrell’s original songs\, old and new\, some Anderson Burko tunes\, and a few classic covers thrown into the mix. It promises to be another evening of good music\, good friends\, and good times. \nSponsored by Rumley Periodontics \n\n\n\n\n\n\n\n  \n
URL:https://thebassment.ca/event/darrell-burko-260604/
LOCATION:The Bassment\, 202 4th Avenue N\, Saskatoon\, SK\, S7K 0K1\, Canada
CATEGORIES:Rockin' Roots
ATTACH;FMTTYPE=image/jpeg:https://thebassment.ca/wp-content/uploads/2024/03/Burko-May-9-2024.jpg
END:VEVENT
END:VCALENDAR