BEGIN:VCALENDAR
VERSION:2.0
PRODID:-//The Bassment - ECPv4.9.13//NONSGML v1.0//EN
CALSCALE:GREGORIAN
METHOD:PUBLISH
X-WR-CALNAME:The Bassment
X-ORIGINAL-URL:https://thebassment.ca
X-WR-CALDESC:Events for The Bassment
BEGIN:VTIMEZONE
TZID:America/Regina
BEGIN:STANDARD
TZOFFSETFROM:-0600
TZOFFSETTO:-0600
TZNAME:CST
DTSTART:20260101T000000
END:STANDARD
END:VTIMEZONE
BEGIN:VEVENT
DTSTART;TZID=America/Regina:20260514T193000
DTEND;TZID=America/Regina:20260514T220000
DTSTAMP:20260419T203235
CREATED:20260119T031440Z
LAST-MODIFIED:20260308T035335Z
UID:11439-1778787000-1778796000@thebassment.ca
SUMMARY:eLRoy Blue with Leonard Shaw & Larry Roy plays the music of Steely Dan
DESCRIPTION:\nLarry Roy and Leonard Shaw\, aka eLRoy Blue\, bring their Steely Dan tribute to our stage to perform the songs of the legendary ‘70s band known for its sophisticated fusion of rock\, jazz\, Latin\, funk\, R&B\, and pop. For over 40 years Larry Roy has been an important part of the Winnipeg music scene as a guitarist\, composer\, arranger\, producer\, recording engineer\, musical director\, and teacher. A graduate of Grant MacEwan University\, multi-instrumentalist Leonard Shaw has been plying his keyboard\, saxophone\, and vocal talents all over the United States since 1990 with the touring version of the Guess Who. Joining Larry and Leonard are fellow eLRoy Blue members Don Benidictson (bass)\, Daniel Roy (drums)\, Erin Propp (vocals)\, and Karly Epp (vocals). eLRoy Blue also features a four-piece horn section with Jon Challoner (trumpet)\, Richard Gillis (trumpet)\, Marc DeJong (sax)\, and Donny Kennedy (sax). \nSponsored by Backyard Living Center \n\n \n\n\n\n  \n
URL:https://thebassment.ca/event/elroy-blue-260414/
LOCATION:The Bassment\, 202 4th Avenue N\, Saskatoon\, SK\, S7K 0K1\, Canada
CATEGORIES:Jazz Groove
ATTACH;FMTTYPE=image/jpeg:https://thebassment.ca/wp-content/uploads/2026/01/steely-roy-may-14-.jpg
END:VEVENT
END:VCALENDAR