BEGIN:VCALENDAR
VERSION:2.0
PRODID:-//The Bassment - ECPv4.9.13//NONSGML v1.0//EN
CALSCALE:GREGORIAN
METHOD:PUBLISH
X-WR-CALNAME:The Bassment
X-ORIGINAL-URL:https://thebassment.ca
X-WR-CALDESC:Events for The Bassment
BEGIN:VTIMEZONE
TZID:America/Regina
BEGIN:STANDARD
TZOFFSETFROM:-0600
TZOFFSETTO:-0600
TZNAME:CST
DTSTART:20260101T000000
END:STANDARD
END:VTIMEZONE
BEGIN:VEVENT
DTSTART;TZID=America/Regina:20260310T193000
DTEND;TZID=America/Regina:20260310T220000
DTSTAMP:20260424T011738
CREATED:20231214T013033Z
LAST-MODIFIED:20260302T200007Z
UID:9455-1773171000-1773180000@thebassment.ca
SUMMARY:No Cover Jazz Jam featuring the Emmett Fortosky Group
DESCRIPTION:Local musician and educator Emmett Fortosky and his quartet lead this month’s Jazz Jam. There is no charge to attend and/or perform at the jams and we welcome singers and instrumentalists of all ages and levels to make an effort to develop their jazz “chops”. Emmett will be joined by Aaron Salkeld (sax)\, Everett Schwab (guitar)\, and Arlan Kopp (drums). \nSponsored by St. John’s Music \n  \n\n
URL:https://thebassment.ca/event/emmett-fortosky-260310/
LOCATION:The Bassment\, 202 4th Avenue N\, Saskatoon\, SK\, S7K 0K1\, Canada
CATEGORIES:Jazz,Jazz Jams
ATTACH;FMTTYPE=image/jpeg:https://thebassment.ca/wp-content/uploads/2022/09/Emmett-Jazz-Jam-2.jpg
END:VEVENT
END:VCALENDAR