BEGIN:VCALENDAR
VERSION:2.0
PRODID:-//The Bassment - ECPv4.9.13//NONSGML v1.0//EN
CALSCALE:GREGORIAN
METHOD:PUBLISH
X-WR-CALNAME:The Bassment
X-ORIGINAL-URL:https://thebassment.ca
X-WR-CALDESC:Events for The Bassment
BEGIN:VTIMEZONE
TZID:America/Regina
BEGIN:STANDARD
TZOFFSETFROM:-0600
TZOFFSETTO:-0600
TZNAME:CST
DTSTART:20260101T000000
END:STANDARD
END:VTIMEZONE
BEGIN:VEVENT
DTSTART;TZID=America/Regina:20260605T203000
DTEND;TZID=America/Regina:20260605T230000
DTSTAMP:20260417T040627
CREATED:20241122T040102Z
LAST-MODIFIED:20260308T044611Z
UID:10198-1780691400-1780700400@thebassment.ca
SUMMARY:Gillian Sings Janis
DESCRIPTION:Created out of a passion and love for a chapter in the history of rock ’n’ roll and R&B distinct from any other\, Gillian Sings Janis celebrates the music and voice of Janis Joplin. Best known as the leader of the Whiskey Jerks\, smokey-voiced singer Gillian Snider has put together a set list that includes such Joplin classics as Me and Bobby McGee\, Piece of My Heart\, and Mercedes Benz. Joining Gillian on stage are Dirk de Boer (guitar)\, Guy Perrin (guitar)\, Pete Oldridge (piano)\, Gord Mosher (sax)\, Jay Metheral (bass)\, and Fabian Minnema (drums). \nSponsored by Optika Eclectic Eyeware \n  \n \n  \n\n\n\n\n\n  \n
URL:https://thebassment.ca/event/gill-janis-250605/
LOCATION:The Bassment\, 202 4th Avenue N\, Saskatoon\, SK\, S7K 0K1\, Canada
CATEGORIES:Rockin' Roots
ATTACH;FMTTYPE=image/jpeg:https://thebassment.ca/wp-content/uploads/2024/11/Gillian-Janis-Jan-31-2025.jpg
END:VEVENT
END:VCALENDAR