BEGIN:VCALENDAR
VERSION:2.0
PRODID:-//The Bassment - ECPv4.9.13//NONSGML v1.0//EN
CALSCALE:GREGORIAN
METHOD:PUBLISH
X-WR-CALNAME:The Bassment
X-ORIGINAL-URL:https://thebassment.ca
X-WR-CALDESC:Events for The Bassment
BEGIN:VTIMEZONE
TZID:America/Regina
BEGIN:STANDARD
TZOFFSETFROM:-0600
TZOFFSETTO:-0600
TZNAME:CST
DTSTART:20250101T000000
END:STANDARD
END:VTIMEZONE
BEGIN:VEVENT
DTSTART;TZID=America/Regina:20251227T193000
DTEND;TZID=America/Regina:20251227T223000
DTSTAMP:20260422T185423
CREATED:20231124T043337Z
LAST-MODIFIED:20251117T215336Z
UID:9398-1766863800-1766874600@thebassment.ca
SUMMARY:GuitarFest: Sons of Django\, Rory Lynch & the Moultet\, and Neil Hendry
DESCRIPTION:Sons of Django pays homage to the music of Django Reinhardt\, the Belgian-Romani guitarist who fused American and French jazz with a flamenco technique in the 1930s and ’40s. Performing classic Reinhardt compositions as well as popular jazz standards and contemporary manouche pieces\, the Sons of Django are Stephen Davis (lead guitar)\, Rory Lynch (lead guitar)\, Lorne Deighton (rhythm guitar)\, and Emmett Fortosky (bass). \nToronto guitarist Rory Lynch’s most recent project\, the Moultet\, features Brett Graham (vibraphone)\, Emmett Fortosky (bass)\, and Kyle Krysa (drums). This dynamic\, exploratory quartet’s repertoire blends elements of jazz\, Afrobeat\, and indie rock. \nGuitarist Neil Hendry is a happy member of Toronto’s So Long Seven\, an acoustic quartet that plays jazz\, classical\, blues\, folk\, and world music. In 2020\, Neil released an EP of solo guitar music called Cairo the Cat. His second solo guitar EP\, By Its Own\, will be out very soon. \nSponsored by Optika Eclectic Eyeware \n \n  \n\n\n\n\n  \n
URL:https://thebassment.ca/event/guitarfest-241228/
LOCATION:The Bassment\, 202 4th Avenue N\, Saskatoon\, SK\, S7K 0K1\, Canada
CATEGORIES:Guitar
ATTACH;FMTTYPE=image/jpeg:https://thebassment.ca/wp-content/uploads/2023/11/sons-of-django-dec-30-2023.jpg
END:VEVENT
END:VCALENDAR