BEGIN:VCALENDAR
VERSION:2.0
PRODID:-//The Bassment - ECPv4.9.13//NONSGML v1.0//EN
CALSCALE:GREGORIAN
METHOD:PUBLISH
X-WR-CALNAME:The Bassment
X-ORIGINAL-URL:https://thebassment.ca
X-WR-CALDESC:Events for The Bassment
BEGIN:VTIMEZONE
TZID:America/Regina
BEGIN:STANDARD
TZOFFSETFROM:-0600
TZOFFSETTO:-0600
TZNAME:CST
DTSTART:20260101T000000
END:STANDARD
END:VTIMEZONE
BEGIN:VEVENT
DTSTART;TZID=America/Regina:20260522T203000
DTEND;TZID=America/Regina:20260522T230000
DTSTAMP:20260420T010733
CREATED:20250329T201118Z
LAST-MODIFIED:20260315T231711Z
UID:10756-1779481800-1779490800@thebassment.ca
SUMMARY:Kashmir: A Tribute to Led Zeppelin
DESCRIPTION:Founded in 1997 by John Lisi and Dave Cummine\, Kashmir has always strived to accurately recreate the music of Led Zeppelin. Over the years\, the band has amassed a large following of fans and is considered by many as being Western Canada’s premier Led Zeppelin tribute band. Kashmir is Josh Palmer (vocals)\, John Lisi (guitar)\, Ross Folkersen (keys)\, Ray Goertzen (bass)\, and Dave Cummine (drums). \nSponsored by Rumley Periodontics \n \n\n\n\n\n  \n
URL:https://thebassment.ca/event/kashmir-zeppelin-260522/
LOCATION:The Bassment\, 202 4th Avenue N\, Saskatoon\, SK\, S7K 0K1\, Canada
CATEGORIES:Rockin' Roots
ATTACH;FMTTYPE=image/jpeg:https://thebassment.ca/wp-content/uploads/2025/03/kashmir-21-landscape-2026.jpg
END:VEVENT
END:VCALENDAR