BEGIN:VCALENDAR
VERSION:2.0
PRODID:-//The Bassment - ECPv4.9.13//NONSGML v1.0//EN
CALSCALE:GREGORIAN
METHOD:PUBLISH
X-WR-CALNAME:The Bassment
X-ORIGINAL-URL:https://thebassment.ca
X-WR-CALDESC:Events for The Bassment
BEGIN:VTIMEZONE
TZID:America/Regina
BEGIN:STANDARD
TZOFFSETFROM:-0600
TZOFFSETTO:-0600
TZNAME:CST
DTSTART:20260101T000000
END:STANDARD
END:VTIMEZONE
BEGIN:VEVENT
DTSTART;TZID=America/Regina:20260227T163000
DTEND;TZID=America/Regina:20260227T190000
DTSTAMP:20260423T063552
CREATED:20231220T203350Z
LAST-MODIFIED:20260131T015119Z
UID:9516-1772209800-1772218800@thebassment.ca
SUMMARY:Kim Salkeld
DESCRIPTION:Piano Fridays is the perfect way to start your weekend – live piano with great food and drink. With a vast repertoire of swinging and melodic arrangements of jazz standards\, Kim Salkeld is one of the city’s most-in-demand musicians. Kim sits down at our Yamaha S6 grand piano at 4:30 to play three sets. \n  \n
URL:https://thebassment.ca/event/kim-salkeld-260227/
LOCATION:The Bassment\, 202 4th Avenue N\, Saskatoon\, SK\, S7K 0K1\, Canada
CATEGORIES:Piano Fridays
ATTACH;FMTTYPE=image/jpeg:https://thebassment.ca/wp-content/uploads/2023/08/kim-salkeld-PF-2023.jpg
END:VEVENT
END:VCALENDAR