BEGIN:VCALENDAR
VERSION:2.0
PRODID:-//The Bassment - ECPv4.9.13//NONSGML v1.0//EN
CALSCALE:GREGORIAN
METHOD:PUBLISH
X-WR-CALNAME:The Bassment
X-ORIGINAL-URL:https://thebassment.ca
X-WR-CALDESC:Events for The Bassment
BEGIN:VTIMEZONE
TZID:America/Regina
BEGIN:STANDARD
TZOFFSETFROM:-0600
TZOFFSETTO:-0600
TZNAME:CST
DTSTART:20260101T000000
END:STANDARD
END:VTIMEZONE
BEGIN:VEVENT
DTSTART;TZID=America/Regina:20260416T193000
DTEND;TZID=America/Regina:20260416T220000
DTSTAMP:20260417T115234
CREATED:20230723T032701Z
LAST-MODIFIED:20260403T195305Z
UID:9061-1776367800-1776376800@thebassment.ca
SUMMARY:The Lonesome Ace Stringband
DESCRIPTION:The Lonesome Ace Stringband brings grit\, skill\, and abandon to Americana music\, bridging old-time\, bluegrass\, and folk traditions into a hybrid of original material that is fresh and timeless. The trio’s sound is anchored in the fiddle of John Showman\, the clawhammer banjo of Chris Coole\, and the upright bass of Max Malone. Moving freely between an aggressive\, commanding sound to a sparse fragility that draws the listener closer\, the band sings about modern love\, barbecue techniques\, and life’sinevitable existential crises. \nSponsored by Northern Lights Bluegrass & Old Tyme Music Society \n \n  \n\n\n\n\n\n\n  \n
URL:https://thebassment.ca/event/lonesome-ace-260416/
LOCATION:The Bassment\, 202 4th Avenue N\, Saskatoon\, SK\, S7K 0K1\, Canada
CATEGORIES:Bluegrass
ATTACH;FMTTYPE=image/jpeg:https://thebassment.ca/wp-content/uploads/2023/07/lonesome-ace-April-16-2026.jpg
END:VEVENT
END:VCALENDAR