BEGIN:VCALENDAR
VERSION:2.0
PRODID:-//The Bassment - ECPv4.9.13//NONSGML v1.0//EN
CALSCALE:GREGORIAN
METHOD:PUBLISH
X-WR-CALNAME:The Bassment
X-ORIGINAL-URL:https://thebassment.ca
X-WR-CALDESC:Events for The Bassment
BEGIN:VTIMEZONE
TZID:America/Regina
BEGIN:STANDARD
TZOFFSETFROM:-0600
TZOFFSETTO:-0600
TZNAME:CST
DTSTART:20240101T000000
END:STANDARD
END:VTIMEZONE
BEGIN:VEVENT
DTSTART;TZID=America/Regina:20240411T193000
DTEND;TZID=America/Regina:20240411T220000
DTSTAMP:20260422T083817
CREATED:20240107T215445Z
LAST-MODIFIED:20240213T015152Z
UID:9555-1712863800-1712872800@thebassment.ca
SUMMARY:Marianne Trudel & John Hollenbeck: Dédé Java Espiritu
DESCRIPTION:A piano\, a drum set\, and a thousand ideas. This is the happy and highly creative encounter ofpianist and composer Marianne Trudel with world-renowned drummer and composer John Hollenbeck. An electrifying\, fascinating\, enveloping duo\, Dédé Java Espiritu plunges the listener into an infinite panorama of colours and grooves inspired by nature. Filled with catchy grooves\, enchanting melodies\, surprising sonorities\, and joyous spontaneity\, these compositions are rhythmically and melodically arranged to perfection. \nMarianne Trudel is a veritable powerhouse in Canada’s jazz scene. She has produced and multiple artistic projects that showcase her considerable skills as well as her keen sense of creativity. Both energetic and passionate\, her music covers a wide array of musical interests. Marianne has performed across North America\, Europe\, and China and has released 10 critically acclaimed recordings as a leader. \nJohn Hollenbeck possesses a playful versatility and a virtuosic wit. Whether putting pen to paper or conjuring spontaneous sound allergic to repetition\, he is essentially a musical thinker and is forever seeking to surprise himself and his audiences. John has received five GRAMMY nominations\, a 2007 Guggenheim Fellowship\, and is currently a member of the faculty at McGill University’s Schulich School of Music. \nSponsored by David’s Distinctive Men’s Apparel \n \n\n\n\n\n\n\n\n\n\n\n\n  \n
URL:https://thebassment.ca/event/marianne-jhn/
LOCATION:The Bassment\, 202 4th Avenue N\, Saskatoon\, SK\, S7K 0K1\, Canada
CATEGORIES:Piano
ATTACH;FMTTYPE=image/jpeg:https://thebassment.ca/wp-content/uploads/2024/01/Marianne-John-April-11-2024.jpg
END:VEVENT
END:VCALENDAR