BEGIN:VCALENDAR
VERSION:2.0
PRODID:-//The Bassment - ECPv4.9.13//NONSGML v1.0//EN
CALSCALE:GREGORIAN
METHOD:PUBLISH
X-WR-CALNAME:The Bassment
X-ORIGINAL-URL:https://thebassment.ca
X-WR-CALDESC:Events for The Bassment
BEGIN:VTIMEZONE
TZID:America/Regina
BEGIN:STANDARD
TZOFFSETFROM:-0600
TZOFFSETTO:-0600
TZNAME:CST
DTSTART:20260101T000000
END:STANDARD
END:VTIMEZONE
BEGIN:VEVENT
DTSTART;TZID=America/Regina:20260226T193000
DTEND;TZID=America/Regina:20260226T220000
DTSTAMP:20260424T004759
CREATED:20251216T015221Z
LAST-MODIFIED:20260122T023320Z
UID:11350-1772134200-1772143200@thebassment.ca
SUMMARY:Masmoudi Quartette
DESCRIPTION:\nWhen cultures meet in the music of the Masmoudi Quartette\, the result is rather extraordinary. Jazz is infused with a rich interplay of Western and Middle Eastern instrumentation to create a tapestry of sound that is familiar and unexpected at the same time. Group leader Mohamed Masmoudi hails from Tunisia and his music incorporates influences from a lifetime devoted to study\, travel and performance. His works are known for a melodic richness and multifaceted texture. A sampling of the Masmoudi playbook is a stroll through moods and landscapes\, from the sprightly “Labyrinthe” to the sultry “Moorish Tango.” \nMasmoudi is joined by Guillame Martineau (piano)\, Gabriel Paquin-Buki (clarinet) and Rémi-Jean Leblanc (double bass). Audiences will be intrigued by a mosaic of classical\, jazz\, and world music quite unlike any other. \nPresented by the Saskatoon Symphony Orchestra and the Saskatoon Jazz Society  \nSponsored by Backyard Living Center \n\n \n\n\n\n  \n
URL:https://thebassment.ca/event/masmoudi-250226/
LOCATION:The Bassment\, 202 4th Avenue N\, Saskatoon\, SK\, S7K 0K1\, Canada
CATEGORIES:World Music
ATTACH;FMTTYPE=image/jpeg:https://thebassment.ca/wp-content/uploads/2025/12/msamoudi-feb-26-2026-2.jpg
END:VEVENT
END:VCALENDAR