BEGIN:VCALENDAR
VERSION:2.0
PRODID:-//The Bassment - ECPv4.9.13//NONSGML v1.0//EN
CALSCALE:GREGORIAN
METHOD:PUBLISH
X-WR-CALNAME:The Bassment
X-ORIGINAL-URL:https://thebassment.ca
X-WR-CALDESC:Events for The Bassment
BEGIN:VTIMEZONE
TZID:America/Regina
BEGIN:STANDARD
TZOFFSETFROM:-0600
TZOFFSETTO:-0600
TZNAME:CST
DTSTART:20260101T000000
END:STANDARD
END:VTIMEZONE
BEGIN:VEVENT
DTSTART;TZID=America/Regina:20260315T193000
DTEND;TZID=America/Regina:20260315T220000
DTSTAMP:20260424T000828
CREATED:20260117T200908Z
LAST-MODIFIED:20260117T201843Z
UID:11372-1773603000-1773612000@thebassment.ca
SUMMARY:Mike Plume
DESCRIPTION:\nStoryteller Mike Plume makes his way back to the prairies after a year-long absence from the stage. Once the dogged road warrior\, travelling from coast to coast\, overseas\, and across borders\, Mike has stepped back to take more time to analyze his place in the music industry. Will this be another upswing of recording and touring? Or is this just a March winter tour through the Canadian Prairies to remind himself why musicians really shouldn’t tour through the Canadian Prairies for a March winter tour? Only time will tell! \n\n \n  \n\n\n\n  \n
URL:https://thebassment.ca/event/mike-plume-260315/
LOCATION:The Bassment\, 202 4th Avenue N\, Saskatoon\, SK\, S7K 0K1\, Canada
CATEGORIES:Songwriter
ATTACH;FMTTYPE=image/jpeg:https://thebassment.ca/wp-content/uploads/2026/01/mike-plume-march-15-2026.jpg
END:VEVENT
END:VCALENDAR