BEGIN:VCALENDAR
VERSION:2.0
PRODID:-//The Bassment - ECPv4.9.13//NONSGML v1.0//EN
CALSCALE:GREGORIAN
METHOD:PUBLISH
X-WR-CALNAME:The Bassment
X-ORIGINAL-URL:https://thebassment.ca
X-WR-CALDESC:Events for The Bassment
BEGIN:VTIMEZONE
TZID:America/Regina
BEGIN:STANDARD
TZOFFSETFROM:-0600
TZOFFSETTO:-0600
TZNAME:CST
DTSTART:20270101T000000
END:STANDARD
END:VTIMEZONE
BEGIN:VEVENT
DTSTART;TZID=America/Regina:20270421T193000
DTEND;TZID=America/Regina:20270421T220000
DTSTAMP:20260419T164640
CREATED:20260119T034136Z
LAST-MODIFIED:20260331T191914Z
UID:11443-1808335800-1808344800@thebassment.ca
SUMMARY:Ndidi O
DESCRIPTION:\nNdidi O is an award-winning contemporary roots and blues singer-songwriter. For nearly two decades she has carved out an adventurous career deftly moving between soul\, blues\, contemporary roots\, folk\, and Americana. A two-time JUNO award nominee and the 2019 Western Canadian Music Awards winner for Blues Artist of the Year\, Ndidi has released seven solo albums\, the latest being the critically acclaimed 2024 Steve Dawson produced Simple Songs For Complicated Times. \n\nSponsored by Backyard Living Center \n \n  \n\n\n\n  \n
URL:https://thebassment.ca/event/ndidi-260415/
LOCATION:The Bassment\, 202 4th Avenue N\, Saskatoon\, SK\, S7K 0K1\, Canada
CATEGORIES:Northern Soul
ATTACH;FMTTYPE=image/jpeg:https://thebassment.ca/wp-content/uploads/2026/01/ndidi-1-April-15-2026.jpg
END:VEVENT
END:VCALENDAR