BEGIN:VCALENDAR
VERSION:2.0
PRODID:-//The Bassment - ECPv4.9.13//NONSGML v1.0//EN
CALSCALE:GREGORIAN
METHOD:PUBLISH
X-WR-CALNAME:The Bassment
X-ORIGINAL-URL:https://thebassment.ca
X-WR-CALDESC:Events for The Bassment
BEGIN:VTIMEZONE
TZID:America/Regina
BEGIN:STANDARD
TZOFFSETFROM:-0600
TZOFFSETTO:-0600
TZNAME:CST
DTSTART:20260101T000000
END:STANDARD
END:VTIMEZONE
BEGIN:VEVENT
DTSTART;TZID=America/Regina:20260614T020000
DTEND;TZID=America/Regina:20260614T020000
DTSTAMP:20260419T215326
CREATED:20260320T063500Z
LAST-MODIFIED:20260320T063940Z
UID:11635-1781402400-1781402400@thebassment.ca
SUMMARY:A Bottle of Wine & Patsy Cline featuring Pat Mitchell
DESCRIPTION:\nA Bottle of Wine and Patsy Cline is a powerful and moving musical tribute to one of the most influential country music artists of the 20th century. As one of the first country singers to cross over from country to pop\, Patsy Cline appealed to a broad audience. The show will take you from Patsy’s early honky-tonk and rockabilly roots to her cross-over pop hits. Pat Mitchell is an inspiring entertainer who’s been sharing her warmth and exceptional vocal talent in Saskatoon for many years. She’s joined by Sheldon Corbett (keyboards/sax)\, Bruce Wilkinson (bass)\, Tom Chunick (guitar)\, and Glenn Ens (drums). \nSponsored by McEown Avenue Dental Clinic \n\n\n\n\n\n\n\n\n  \n
URL:https://thebassment.ca/event/patsy-pat-260614/
LOCATION:The Bassment\, 202 4th Avenue N\, Saskatoon\, SK\, S7K 0K1\, Canada
CATEGORIES:Country Roads
ATTACH;FMTTYPE=image/jpeg:https://thebassment.ca/wp-content/uploads/2023/03/Patsy-june-17-2023-2.jpg
END:VEVENT
END:VCALENDAR