BEGIN:VCALENDAR
VERSION:2.0
PRODID:-//The Bassment - ECPv4.9.13//NONSGML v1.0//EN
CALSCALE:GREGORIAN
METHOD:PUBLISH
X-WR-CALNAME:The Bassment
X-ORIGINAL-URL:https://thebassment.ca
X-WR-CALDESC:Events for The Bassment
BEGIN:VTIMEZONE
TZID:America/Regina
BEGIN:STANDARD
TZOFFSETFROM:-0600
TZOFFSETTO:-0600
TZNAME:CST
DTSTART:20260101T000000
END:STANDARD
END:VTIMEZONE
BEGIN:VEVENT
DTSTART;TZID=America/Regina:20260619T203000
DTEND;TZID=America/Regina:20260619T230000
DTSTAMP:20260420T041534
CREATED:20230116T041017Z
LAST-MODIFIED:20260320T181126Z
UID:8562-1781901000-1781910000@thebassment.ca
SUMMARY:Saskatoon's Legendary Rhythm & Blues Revue
DESCRIPTION:Saskatoon’s Legendary Rhythm & Blues Revue features lead singers Darcy Greig and Holly Stasiuk and a sextet of some of Saskatoon’s finest players: Tom Chunick (guitar)\, Andrew Allsopp (keys)\, Gord Mosher (sax)\, Gord MacAulay (bass)\, and Glenn Ens (drums). With a common thread of the rhythm & blues from Chicago\, Memphis\, Philadelphia\, and New Orleans\, the LR&BR showcases the classic hits from the ’60s and ’70s. \nSponsored by Beehive Flooring \n \n  \n\n\n\n\n\n  \n
URL:https://thebassment.ca/event/saskatoon-rb-260619/
LOCATION:The Bassment\, 202 4th Avenue N\, Saskatoon\, SK\, S7K 0K1\, Canada
CATEGORIES:Northern Soul
ATTACH;FMTTYPE=image/jpeg:https://thebassment.ca/wp-content/uploads/2023/01/legend-rb-March-17-2023.jpg
END:VEVENT
END:VCALENDAR