BEGIN:VCALENDAR
VERSION:2.0
PRODID:-//The Bassment - ECPv4.9.13//NONSGML v1.0//EN
CALSCALE:GREGORIAN
METHOD:PUBLISH
X-WR-CALNAME:The Bassment
X-ORIGINAL-URL:https://thebassment.ca
X-WR-CALDESC:Events for The Bassment
BEGIN:VTIMEZONE
TZID:America/Regina
BEGIN:STANDARD
TZOFFSETFROM:-0600
TZOFFSETTO:-0600
TZNAME:CST
DTSTART:20260101T000000
END:STANDARD
END:VTIMEZONE
BEGIN:VEVENT
DTSTART;TZID=America/Regina:20260428T193000
DTEND;TZID=America/Regina:20260428T220000
DTSTAMP:20260418T190915
CREATED:20260303T164639Z
LAST-MODIFIED:20260303T165841Z
UID:11538-1777404600-1777413600@thebassment.ca
SUMMARY:Shaun Kirk
DESCRIPTION:\nShaun Kirk is an award-winning blues and soul troubadour recognized for his exceptional talent as a born entertainer. Kirk’s vocals exude a gritty\, soulful depth that seems to transcend far beyond his years\, with critics continually acclaiming him as “one of the finest blues voices Australia has ever heard” (Buzz Mag). \nSponsored by Optika Eclectic Eyeware \n\n  \n \n\n\n\n  \n
URL:https://thebassment.ca/event/shaun-kirk-260428/
LOCATION:The Bassment\, 202 4th Avenue N\, Saskatoon\, SK\, S7K 0K1\, Canada
CATEGORIES:Blues
ATTACH;FMTTYPE=image/jpeg:https://thebassment.ca/wp-content/uploads/2026/03/shaun-Kirk-April-28-2026.jpg
END:VEVENT
END:VCALENDAR