BEGIN:VCALENDAR
VERSION:2.0
PRODID:-//The Bassment - ECPv4.9.13//NONSGML v1.0//EN
CALSCALE:GREGORIAN
METHOD:PUBLISH
X-WR-CALNAME:The Bassment
X-ORIGINAL-URL:https://thebassment.ca
X-WR-CALDESC:Events for The Bassment
BEGIN:VTIMEZONE
TZID:America/Regina
BEGIN:STANDARD
TZOFFSETFROM:-0600
TZOFFSETTO:-0600
TZNAME:CST
DTSTART:20260101T000000
END:STANDARD
END:VTIMEZONE
BEGIN:VEVENT
DTSTART;TZID=America/Regina:20260130T163000
DTEND;TZID=America/Regina:20260130T190000
DTSTAMP:20260420T030610
CREATED:20240903T003326Z
LAST-MODIFIED:20260114T160645Z
UID:10249-1769790600-1769799600@thebassment.ca
SUMMARY:Stephanie Tillman
DESCRIPTION:Piano Fridays is the perfect way to start your weekend – live piano with great food and drink. Pianist and singer Stephanie Tillman bought a cassette tape of Thelonius Monk in a small prairie town pharmacy when she was 15 years old and has been exploring the paths of jazz\, vintage and gypsy swing\, fusion\, and alternative folk ever since. Stephanie delivers a blend of keys and vox inspired by her classical training\, the stylings of pianists like Jacky Terrasson\, singers including Holly Cole and Gregory Porter\, and the compositions of Pat Metheny\, Carla Bley and Tom Waits. \n  \n
URL:https://thebassment.ca/event/stepanie-tillman-260130/
LOCATION:The Bassment\, 202 4th Avenue N\, Saskatoon\, SK\, S7K 0K1\, Canada
CATEGORIES:Piano Fridays
ATTACH;FMTTYPE=image/jpeg:https://thebassment.ca/wp-content/uploads/2022/08/stephanie-tillman-PF-2022.jpg
END:VEVENT
END:VCALENDAR