BEGIN:VCALENDAR
VERSION:2.0
PRODID:-//The Bassment - ECPv4.9.13//NONSGML v1.0//EN
CALSCALE:GREGORIAN
METHOD:PUBLISH
X-WR-CALNAME:The Bassment
X-ORIGINAL-URL:https://thebassment.ca
X-WR-CALDESC:Events for The Bassment
BEGIN:VTIMEZONE
TZID:America/Regina
BEGIN:STANDARD
TZOFFSETFROM:-0600
TZOFFSETTO:-0600
TZNAME:CST
DTSTART:20250101T000000
END:STANDARD
END:VTIMEZONE
BEGIN:VEVENT
DTSTART;TZID=America/Regina:20251226T203000
DTEND;TZID=America/Regina:20251226T230000
DTSTAMP:20260424T010524
CREATED:20240728T224747Z
LAST-MODIFIED:20251129T180210Z
UID:10158-1766781000-1766790000@thebassment.ca
SUMMARY:Vesti & the Vexations
DESCRIPTION:For over three decades\, Vesti Hanson and Cam McConnell have been the local champions of classic soul and R&B. Back to play their annual pre-Christmas Bassment show\, backed by a killer 10-piece band\, and armed with a set list that includes the hits of Aretha Franklin\, the Rolling Stones\, Chicago\, and Marvin Gaye\, Vesti and Cam have a loyal following of devoted Vex-Heads!. \nSponsored by Lawson Auto Sap  \n  \n \n\n\n\n
URL:https://thebassment.ca/event/vesti-vexations-251226/
LOCATION:The Bassment\, 202 4th Avenue N\, Saskatoon\, SK\, S7K 0K1\, Canada
CATEGORIES:Northern Soul
ATTACH;FMTTYPE=image/jpeg:https://thebassment.ca/wp-content/uploads/2022/03/Vesti-April-22-2022.jpeg
END:VEVENT
END:VCALENDAR