BEGIN:VCALENDAR
VERSION:2.0
PRODID:-//The Bassment - ECPv4.9.13//NONSGML v1.0//EN
CALSCALE:GREGORIAN
METHOD:PUBLISH
X-WR-CALNAME:The Bassment
X-ORIGINAL-URL:https://thebassment.ca
X-WR-CALDESC:Events for The Bassment
BEGIN:VTIMEZONE
TZID:America/Regina
BEGIN:STANDARD
TZOFFSETFROM:-0600
TZOFFSETTO:-0600
TZNAME:CST
DTSTART:20260101T000000
END:STANDARD
END:VTIMEZONE
BEGIN:VEVENT
DTSTART;TZID=America/Regina:20260606T193000
DTEND;TZID=America/Regina:20260606T220000
DTSTAMP:20260417T192318
CREATED:20240105T002307Z
LAST-MODIFIED:20260308T045336Z
UID:9552-1780774200-1780783200@thebassment.ca
SUMMARY:West of Mabou
DESCRIPTION:Where east coast history and prairie culture collide is exactly where you will find West of Mabou. Hot off their 2025 Saskatchewan Music Award win for their third studio album\, West of Mabou returns to perform lively fiddle and pipe tunes. The band combines the talents of Scott Benson (fiddle)\, Roberta Wallace (fiddle)\, Alex Rasmussen (pipes/whistles)\, Justin Easton (guitar)\, and Jared Dormer (drums). \nSponsored by Optika Eclectic Eyeware \n \n\n\n\n\n\n\n\n  \n
URL:https://thebassment.ca/event/west-mabou-240323/
LOCATION:The Bassment\, 202 4th Avenue N\, Saskatoon\, SK\, S7K 0K1\, Canada
CATEGORIES:Celtic
ATTACH;FMTTYPE=image/jpeg:https://thebassment.ca/wp-content/uploads/2019/01/event-190524-west-mabou.jpg
END:VEVENT
END:VCALENDAR